BEGIN:VCALENDAR
VERSION:2.0
PRODID:-//Caribbean Kite Cruise - ECPv6.10.2//NONSGML v1.0//EN
CALSCALE:GREGORIAN
METHOD:PUBLISH
X-ORIGINAL-URL:https://caribbeankitecruise.com
X-WR-CALDESC:Events for Caribbean Kite Cruise
REFRESH-INTERVAL;VALUE=DURATION:PT1H
X-Robots-Tag:noindex
X-PUBLISHED-TTL:PT1H
BEGIN:VTIMEZONE
TZID:UTC
BEGIN:STANDARD
TZOFFSETFROM:+0000
TZOFFSETTO:+0000
TZNAME:UTC
DTSTART:20250101T000000
END:STANDARD
END:VTIMEZONE
BEGIN:VEVENT
DTSTART;VALUE=DATE:20250418
DTEND;VALUE=DATE:20250426
DTSTAMP:20260419T232554
CREATED:20240610T081345Z
LAST-MODIFIED:20250326T131404Z
UID:6652-1744934400-1745625599@caribbeankitecruise.com
SUMMARY:Private Charter Grenadines
DESCRIPTION:Private Charter Saint Vincent – Grenadines\nLooking for the perfect Easter Vacation together with your Friends and Family? A private Kite and Wingfoil Charter in the Grenadines might be exactly what you need:) \nBring along up to 8 guest and discover the best Kitesurf and Wingfoil Spots of the Grenadines. Also a perfect Vacation for non Kiters. Enjoy the Tranquility of the Caribbean while chilling on deck\, snorkelling and discovering the different Islands and Caribbean lifestyle.
URL:https://caribbeankitecruise.com/charter/private-cruise-grenadines/
LOCATION:St Vincent and the Grenadines\, Clifton\, Union Island\, Saint Vincent and The Grenadines
CATEGORIES:Fully Booked
ATTACH;FMTTYPE=image/png:https://caribbeankitecruise.com/wp-content/uploads/Screenshot-2024-08-31-at-14.07.22.png
END:VEVENT
END:VCALENDAR