BEGIN:VCALENDAR
VERSION:2.0
PRODID:-//Caribbean Kite Cruise - ECPv6.10.2//NONSGML v1.0//EN
CALSCALE:GREGORIAN
METHOD:PUBLISH
X-WR-CALNAME:Caribbean Kite Cruise
X-ORIGINAL-URL:https://caribbeankitecruise.com
X-WR-CALDESC:Events for Caribbean Kite Cruise
REFRESH-INTERVAL;VALUE=DURATION:PT1H
X-Robots-Tag:noindex
X-PUBLISHED-TTL:PT1H
BEGIN:VTIMEZONE
TZID:UTC
BEGIN:STANDARD
TZOFFSETFROM:+0000
TZOFFSETTO:+0000
TZNAME:UTC
DTSTART:20250101T000000
END:STANDARD
END:VTIMEZONE
BEGIN:VEVENT
DTSTART;VALUE=DATE:20250405
DTEND;VALUE=DATE:20250413
DTSTAMP:20260420T031032
CREATED:20240610T084901Z
LAST-MODIFIED:20240831T125459Z
UID:6679-1743811200-1744502399@caribbeankitecruise.com
SUMMARY:Caribbean Kite and Wingfoil Cruise British Virgin Islands
DESCRIPTION:Caribbean Kite and Wingfoil Cruise British Virgin Islands\nContact us for more information
URL:https://caribbeankitecruise.com/charter/caribbean-kite-and-wingfoil-cruise-british-virgin-islands/
LOCATION:British Virgin Islands
CATEGORIES:Available Cabins
ATTACH;FMTTYPE=image/jpeg:https://caribbeankitecruise.com/wp-content/uploads/Watersports-Training_Grenadines-Kitesurf20-e1717858082938.jpg
ORGANIZER;CN="Caribbean Kite Cruise":MAILTO:chris@caribbeankitecruise.com
END:VEVENT
END:VCALENDAR